Workbook

Sheet Trades
A1: Date | B1: Direction | C1: Level | D1: Reversal? | E1: Raid time | F1: Entry time | G1: Exit time | H1: Entry | I1: Initial stop | J1: Target | K1: Risk (pts) | L1: Exit | M1: Reason | N1: P&L $ | O1: R | P1: Equity
A2: 2025-11-05 | B2: Long | C2: AsiaH | D2: FALSE | E2: 09:30 | F2: 10:05 | G2: 15:55 | H2: 25530.764 | I2: 25384.122 | J2: 25938.903 | K2: =ABS(H2-I2) | L2: 25655.658 | M2: EOD | N2: =IF(B2="Long",L2-H2,H2-L2)*2-1.2 | O2: =N2/(K2*2) | P2: =IF(ROW()=2,N2,P1+N2)
A3: 2025-11-06 | B3: Short | C3: PDL | D3: FALSE | E3: 11:25 | F3: 11:45 | G3: 12:45 | H3: 25139.609 | I3: 25215.252 | J3: 24987.309 | K3: =ABS(H3-I3) | L3: 25202.54 | M3: Time | N3: =IF(B3="Long",L3-H3,H3-L3)*2-1.2 | O3: =N3/(K3*2) | P3: =IF(ROW()=2,N3,P2+N3)
A4: 2025-11-24 | B4: Long | C4: AsiaH | D4: FALSE | E4: 09:30 | F4: 10:10 | G4: 15:55 | H4: 24638.779 | I4: 24554.664 | J4: 25273.529 | K4: =ABS(H4-I4) | L4: 24907.477 | M4: EOD | N4: =IF(B4="Long",L4-H4,H4-L4)*2-1.2 | O4: =N4/(K4*2) | P4: =IF(ROW()=2,N4,P3+N4)
A5: 2025-11-27 | B5: Short | C5: LonL | D5: FALSE | E5: 09:35 | F5: 10:40 | G5: 11:40 | H5: 25233.266 | I5: 25244.886 | J5: 25210.287 | K5: =ABS(H5-I5) | L5: 25236.57 | M5: Time | N5: =IF(B5="Long",L5-H5,H5-L5)*2-1.2 | O5: =N5/(K5*2) | P5: =IF(ROW()=2,N5,P4+N5)
A6: 2025-12-02 | B6: Long | C6: PDH | D6: FALSE | E6: 09:35 | F6: 10:10 | G6: 10:30 | H6: 25589.447 | I6: 25514.794 | J6: 25738.228 | K6: =ABS(H6-I6) | L6: 25514.794 | M6: SL | N6: =IF(B6="Long",L6-H6,H6-L6)*2-1.2 | O6: =N6/(K6*2) | P6: =IF(ROW()=2,N6,P5+N6)
K7: =IF(H7="","",ABS(H7-I7)) | N7: =IF(L7="","",IF(B7="Long",L7-H7,H7-L7)*2-1.2) | O7: =IF(N7="","",N7/(K7*2)) | P7: =IF(N7="","",P6+N7)
K8: =IF(H8="","",ABS(H8-I8)) | N8: =IF(L8="","",IF(B8="Long",L8-H8,H8-L8)*2-1.2) | O8: =IF(N8="","",N8/(K8*2)) | P8: =IF(N8="","",P7+N8)
K9: =IF(H9="","",ABS(H9-I9)) | N9: =IF(L9="","",IF(B9="Long",L9-H9,H9-L9)*2-1.2) | O9: =IF(N9="","",N9/(K9*2)) | P9: =IF(N9="","",P8+N9)
K10: =IF(H10="","",ABS(H10-I10)) | N10: =IF(L10="","",IF(B10="Long",L10-H10,H10-L10)*2-1.2) | O10: =IF(N10="","",N10/(K10*2)) | P10: =IF(N10="","",P9+N10)
K11: =IF(H11="","",ABS(H11-I11)) | N11: =IF(L11="","",IF(B11="Long",L11-H11,H11-L11)*2-1.2) | O11: =IF(N11="","",N11/(K11*2)) | P11: =IF(N11="","",P10+N11)
K12: =IF(H12="","",ABS(H12-I12)) | N12: =IF(L12="","",IF(B12="Long",L12-H12,H12-L12)*2-1.2) | O12: =IF(N12="","",N12/(K12*2)) | P12: =IF(N12="","",P11+N12)
K13: =IF(H13="","",ABS(H13-I13)) | N13: =IF(L13="","",IF(B13="Long",L13-H13,H13-L13)*2-1.2) | O13: =IF(N13="","",N13/(K13*2)) | P13: =IF(N13="","",P12+N13)
K14: =IF(H14="","",ABS(H14-I14)) | N14: =IF(L14="","",IF(B14="Long",L14-H14,H14-L14)*2-1.2) | O14: =IF(N14="","",N14/(K14*2)) | P14: =IF(N14="","",P13+N14)
K15: =IF(H15="","",ABS(H15-I15)) | N15: =IF(L15="","",IF(B15="Long",L15-H15,H15-L15)*2-1.2) | O15: =IF(N15="","",N15/(K15*2)) | P15: =IF(N15="","",P14+N15)
K16: =IF(H16="","",ABS(H16-I16)) | N16: =IF(L16="","",IF(B16="Long",L16-H16,H16-L16)*2-1.2) | O16: =IF(N16="","",N16/(K16*2)) | P16: =IF(N16="","",P15+N16)
K17: =IF(H17="","",ABS(H17-I17)) | N17: =IF(L17="","",IF(B17="Long",L17-H17,H17-L17)*2-1.2) | O17: =IF(N17="","",N17/(K17*2)) | P17: =IF(N17="","",P16+N17)
K18: =IF(H18="","",ABS(H18-I18)) | N18: =IF(L18="","",IF(B18="Long",L18-H18,H18-L18)*2-1.2) | O18: =IF(N18="","",N18/(K18*2)) | P18: =IF(N18="","",P17+N18)
... K399: =IF(H399="","",ABS(H399-I399)) | N399: =IF(L399="","",IF(B399="Long",L399-H399,H399-L399)*2-1.2) | O399: =IF(N399="","",N399/(K399*2)) | P399: =IF(N399="","",P398+N399)

Sheet Monthly summary
A1: Month | B1: Trades | C1: Result $ | D1: Winners | E1: Profit factor
A2: 2025-11 | B2: =COUNTIFS(Trades!A:A,"2025-11*") | C2: =SUMIFS(Trades!N:N,Trades!A:A,"2025-11*") | D2: =COUNTIFS(Trades!A:A,"2025-11*",Trades!N:N,">0") | E2: =IFERROR(SUMIFS(Trades!N:N,Trades!A:A,"2025-11*",Trades!N:N,">0")/-SUMIFS(Trades!N:N,Trades!A:A,"2025-11*",Trades!N:N,"<0"),"")
A3: 2025-12 | B3: =COUNTIFS(Trades!A:A,"2025-12*") | C3: =SUMIFS(Trades!N:N,Trades!A:A,"2025-12*") | D3: =COUNTIFS(Trades!A:A,"2025-12*",Trades!N:N,">0") | E3: =IFERROR(SUMIFS(Trades!N:N,Trades!A:A,"2025-12*",Trades!N:N,">0")/-SUMIFS(Trades!N:N,Trades!A:A,"2025-12*",Trades!N:N,"<0"),"")
A4: 2026-01 | B4: =COUNTIFS(Trades!A:A,"2026-01*") | C4: =SUMIFS(Trades!N:N,Trades!A:A,"2026-01*") | D4: =COUNTIFS(Trades!A:A,"2026-01*",Trades!N:N,">0") | E4: =IFERROR(SUMIFS(Trades!N:N,Trades!A:A,"2026-01*",Trades!N:N,">0")/-SUMIFS(Trades!N:N,Trades!A:A,"2026-01*",Trades!N:N,"<0"),"")
A5: 2026-02 | B5: =COUNTIFS(Trades!A:A,"2026-02*") | C5: =SUMIFS(Trades!N:N,Trades!A:A,"2026-02*") | D5: =COUNTIFS(Trades!A:A,"2026-02*",Trades!N:N,">0") | E5: =IFERROR(SUMIFS(Trades!N:N,Trades!A:A,"2026-02*",Trades!N:N,">0")/-SUMIFS(Trades!N:N,Trades!A:A,"2026-02*",Trades!N:N,"<0"),"")
A6: 2026-03 | B6: =COUNTIFS(Trades!A:A,"2026-03*") | C6: =SUMIFS(Trades!N:N,Trades!A:A,"2026-03*") | D6: =COUNTIFS(Trades!A:A,"2026-03*",Trades!N:N,">0") | E6: =IFERROR(SUMIFS(Trades!N:N,Trades!A:A,"2026-03*",Trades!N:N,">0")/-SUMIFS(Trades!N:N,Trades!A:A,"2026-03*",Trades!N:N,"<0"),"")
A7: 2026-04 | B7: =COUNTIFS(Trades!A:A,"2026-04*") | C7: =SUMIFS(Trades!N:N,Trades!A:A,"2026-04*") | D7: =COUNTIFS(Trades!A:A,"2026-04*",Trades!N:N,">0") | E7: =IFERROR(SUMIFS(Trades!N:N,Trades!A:A,"2026-04*",Trades!N:N,">0")/-SUMIFS(Trades!N:N,Trades!A:A,"2026-04*",Trades!N:N,"<0"),"")
A8: 2026-05 | B8: =COUNTIFS(Trades!A:A,"2026-05*") | C8: =SUMIFS(Trades!N:N,Trades!A:A,"2026-05*") | D8: =COUNTIFS(Trades!A:A,"2026-05*",Trades!N:N,">0") | E8: =IFERROR(SUMIFS(Trades!N:N,Trades!A:A,"2026-05*",Trades!N:N,">0")/-SUMIFS(Trades!N:N,Trades!A:A,"2026-05*",Trades!N:N,"<0"),"")
A9: 2026-06 | B9: =COUNTIFS(Trades!A:A,"2026-06*") | C9: =SUMIFS(Trades!N:N,Trades!A:A,"2026-06*") | D9: =COUNTIFS(Trades!A:A,"2026-06*",Trades!N:N,">0") | E9: =IFERROR(SUMIFS(Trades!N:N,Trades!A:A,"2026-06*",Trades!N:N,">0")/-SUMIFS(Trades!N:N,Trades!A:A,"2026-06*",Trades!N:N,"<0"),"")
A10: 2026-07 | B10: =COUNTIFS(Trades!A:A,"2026-07*") | C10: =SUMIFS(Trades!N:N,Trades!A:A,"2026-07*") | D10: =COUNTIFS(Trades!A:A,"2026-07*",Trades!N:N,">0") | E10: =IFERROR(SUMIFS(Trades!N:N,Trades!A:A,"2026-07*",Trades!N:N,">0")/-SUMIFS(Trades!N:N,Trades!A:A,"2026-07*",Trades!N:N,"<0"),"")
A11: 2026-08 | B11: =COUNTIFS(Trades!A:A,"2026-08*") | C11: =SUMIFS(Trades!N:N,Trades!A:A,"2026-08*") | D11: =COUNTIFS(Trades!A:A,"2026-08*",Trades!N:N,">0") | E11: =IFERROR(SUMIFS(Trades!N:N,Trades!A:A,"2026-08*",Trades!N:N,">0")/-SUMIFS(Trades!N:N,Trades!A:A,"2026-08*",Trades!N:N,"<0"),"")
A12: 2026-09 | B12: =COUNTIFS(Trades!A:A,"2026-09*") | C12: =SUMIFS(Trades!N:N,Trades!A:A,"2026-09*") | D12: =COUNTIFS(Trades!A:A,"2026-09*",Trades!N:N,">0") | E12: =IFERROR(SUMIFS(Trades!N:N,Trades!A:A,"2026-09*",Trades!N:N,">0")/-SUMIFS(Trades!N:N,Trades!A:A,"2026-09*",Trades!N:N,"<0"),"")
A13: 2026-10 | B13: =COUNTIFS(Trades!A:A,"2026-10*") | C13: =SUMIFS(Trades!N:N,Trades!A:A,"2026-10*") | D13: =COUNTIFS(Trades!A:A,"2026-10*",Trades!N:N,">0") | E13: =IFERROR(SUMIFS(Trades!N:N,Trades!A:A,"2026-10*",Trades!N:N,">0")/-SUMIFS(Trades!N:N,Trades!A:A,"2026-10*",Trades!N:N,"<0"),"")
A14: 2026-11 | B14: =COUNTIFS(Trades!A:A,"2026-11*") | C14: =SUMIFS(Trades!N:N,Trades!A:A,"2026-11*") | D14: =COUNTIFS(Trades!A:A,"2026-11*",Trades!N:N,">0") | E14: =IFERROR(SUMIFS(Trades!N:N,Trades!A:A,"2026-11*",Trades!N:N,">0")/-SUMIFS(Trades!N:N,Trades!A:A,"2026-11*",Trades!N:N,"<0"),"")
A15: Total | B15: =SUM(B2:B14) | C15: =SUM(C2:C14) | D15: =SUM(D2:D14) | E15: =IFERROR(SUMIF(Trades!N:N,">0")/-SUMIF(Trades!N:N,"<0"),"")

Sheet Notes
A1: P&L assumes one Micro Nasdaq (MNQ) contract: 2 $ per point, 1.20 $ commission per round trip. Adjust the factors in column N for other instruments.
A2: Reason codes used by the simulator: Target, Stop, BE (break-even stop), Time (60-minute rule), EOD (15:55 flat).
A3: The first five rows are trades of the published test year, as examples; overwrite them.
